BEGIN:VCALENDAR
PRODID:-//OXCYON INC//EN
METHOD:PUBLISH
BEGIN:VEVENT
UID:uid
CLASS:PUBLIC
DTSTAMP:20260420T063459
DTSTART:20260106T100000
DTEND:20260106T110000
DESCRIPTION;ENCODING=QUOTED-PRINTABLE:Attend the Virtual Meeting=0D=0AMeeting ID: 260 983 563 817 6=0D=0APasscode: wQ7AX9L4=0D=0AOr Call In: 850-792-4991=0D=0APhone Conference ID: 657 482 137#
SUMMARY:Initial Scoring Meeting for RFP-009-26-RR - Supply Flame Resistant (FR) and Non-Flame Resistant (Non-FR) clothing for the City of Tallahassee Electric and Gas employees
PRIORITY:0
LOCATION:Virtual Meeting
END:VEVENT
END:VCALENDAR
